BEGIN:VCALENDAR
CALSCALE:GREGORIAN
PRODID:-//Ben Fortuna//iCal4j 1.0//EN
VERSION:2.0
BEGIN:VEVENT
DTSTAMP:20260128T180015Z
DTSTART:20260128T103000
DTEND:20260128T123000
SUMMARY:S. 211 - An act relating to motor vehicle inspections\n\nWalk-thr
 ough\n\nDamien Leonard\, Legislative Counsel\, Office of Legislative Cou
 nsel - Room 3
TZID:America/New_York
UID:20260128T180015Z-uidGen@richgoldman-357e73
END:VEVENT
BEGIN:VALARM
TRIGGER:-PT15M
ACTION:DISPLAY
DESCRIPTION:S. 211 - An act relating to motor vehicle inspections\n\nWalk
 -through\n\nDamien Leonard\, Legislative Counsel\, Office of Legislative
  Counsel - Room 3
END:VALARM
END:VCALENDAR
