BEGIN:VCALENDAR
CALSCALE:GREGORIAN
PRODID:-//Ben Fortuna//iCal4j 1.0//EN
VERSION:2.0
BEGIN:VEVENT
DTSTAMP:20260125T060514Z
DTSTART:20260128T103000
DTEND:20260128T123000
SUMMARY:Champlain Valley Farmer Coalition\n\nUpdates\n\nBrian Kemp\, Co-C
 hair\, Champlain Valley Farmer Coalition - Room 49
TZID:America/New_York
UID:20260125T061027Z-uidGen@richgoldman-357e73
END:VEVENT
BEGIN:VALARM
TRIGGER:-PT15M
ACTION:DISPLAY
DESCRIPTION:Champlain Valley Farmer Coalition\n\nUpdates\n\nBrian Kemp\, 
 Co-Chair\, Champlain Valley Farmer Coalition - Room 49
END:VALARM
END:VCALENDAR
