BEGIN:VCALENDAR
CALSCALE:GREGORIAN
PRODID:-//Ben Fortuna//iCal4j 1.0//EN
VERSION:2.0
BEGIN:VEVENT
DTSTAMP:20260125T060513Z
DTSTART:20260128T100000
DTEND:20260128T120000
SUMMARY:Dam Management Updates\n\nANR managed dams and Waterbury dam proj
 ect\n\nMisty Sinsigalli\, Commissioner\, Department of Environmental Con
 servation - Invited\n\nBen Green\, Dam Safety Program Manager\, Departme
 nt of Environmental Conservation - Invited - Room 34
TZID:America/New_York
UID:20260125T061005Z-uidGen@richgoldman-357e73
END:VEVENT
BEGIN:VALARM
TRIGGER:-PT15M
ACTION:DISPLAY
DESCRIPTION:Dam Management Updates\n\nANR managed dams and Waterbury dam 
 project\n\nMisty Sinsigalli\, Commissioner\, Department of Environmental
  Conservation - Invited\n\nBen Green\, Dam Safety Program Manager\, Depa
 rtment of Environmental Conservation - Invited - Room 34
END:VALARM
END:VCALENDAR
