BEGIN:VCALENDAR
CALSCALE:GREGORIAN
PRODID:-//Ben Fortuna//iCal4j 1.0//EN
VERSION:2.0
BEGIN:VEVENT
DTSTAMP:20260127T150030Z
DTSTART:20260128T100000
DTEND:20260128T120000
SUMMARY:Dam Management Updates\n\nWaterbury dam project\n\nBen Green\, Da
 m Safety Program Manager\, Department of Environmental Conservation\n\nE
 mily Bird\, Program Manager\, Clean Water Initiative\, Department of Env
 ironmental Conservation\, Agency of Natural Resources - Room 34
TZID:America/New_York
UID:20260127T150103Z-uidGen@richgoldman-357e73
END:VEVENT
BEGIN:VALARM
TRIGGER:-PT15M
ACTION:DISPLAY
DESCRIPTION:Dam Management Updates\n\nWaterbury dam project\n\nBen Green\
 , Dam Safety Program Manager\, Department of Environmental Conservation\
 n\nEmily Bird\, Program Manager\, Clean Water Initiative\, Department of
  Environmental Conservation\, Agency of Natural Resources - Room 34
END:VALARM
END:VCALENDAR
