BEGIN:VCALENDAR
CALSCALE:GREGORIAN
PRODID:-//Ben Fortuna//iCal4j 1.0//EN
VERSION:2.0
BEGIN:VEVENT
DTSTAMP:20260127T170014Z
DTSTART:20260128T100000
DTEND:20260128T120000
SUMMARY:Capital Budget Adjustment\n\nSection 9 - Agency of Natural Resour
 ces\n\nBen Green\, Dam Safety Program Manager\, Department of Environmen
 tal Conservation\n\nEmily Bird\, Program Manager\, Clean Water Initiativ
 e\, Department of Environmental Conservation\, Agency of Natural Resourc
 es - Room 34
TZID:America/New_York
UID:20260127T170038Z-uidGen@richgoldman-357e73
END:VEVENT
BEGIN:VALARM
TRIGGER:-PT15M
ACTION:DISPLAY
DESCRIPTION:Capital Budget Adjustment\n\nSection 9 - Agency of Natural Re
 sources\n\nBen Green\, Dam Safety Program Manager\, Department of Enviro
 nmental Conservation\n\nEmily Bird\, Program Manager\, Clean Water Initi
 ative\, Department of Environmental Conservation\, Agency of Natural Res
 ources - Room 34
END:VALARM
END:VCALENDAR
