BEGIN:VCALENDAR
CALSCALE:GREGORIAN
PRODID:-//Ben Fortuna//iCal4j 1.0//EN
VERSION:2.0
BEGIN:VEVENT
DTSTAMP:20260128T150030Z
DTSTART:20260128T100000
DTEND:20260128T120000
SUMMARY:Capital Budget Adjustment\n\nSection 9 - Dam safety program proje
 ct statuses and budget adjustment request\n\nBen Green\, Dam Safety Prog
 ram Manager\, Department of Environmental Conservation\n\nEmily Bird\, P
 rogram Manager\, Clean Water Initiative\, Department of Environmental Co
 nservation\n\nTim Appleton\, Wildlife Biologist\, Public Land Section Ch
 ief\, Department of Fish and Wildlife\n\nMike Wichrowski\, Lands & Facil
 ities Administrator\, Department of Fish and Wildlife - Room 34
TZID:America/New_York
UID:20260128T150056Z-uidGen@richgoldman-357e73
END:VEVENT
BEGIN:VALARM
TRIGGER:-PT15M
ACTION:DISPLAY
DESCRIPTION:Capital Budget Adjustment\n\nSection 9 - Dam safety program p
 roject statuses and budget adjustment request\n\nBen Green\, Dam Safety 
 Program Manager\, Department of Environmental Conservation\n\nEmily Bird
 \, Program Manager\, Clean Water Initiative\, Department of Environmenta
 l Conservation\n\nTim Appleton\, Wildlife Biologist\, Public Land Sectio
 n Chief\, Department of Fish and Wildlife\n\nMike Wichrowski\, Lands & F
 acilities Administrator\, Department of Fish and Wildlife - Room 34
END:VALARM
END:VCALENDAR
