BEGIN:VCALENDAR
CALSCALE:GREGORIAN
PRODID:-//Ben Fortuna//iCal4j 1.0//EN
VERSION:2.0
BEGIN:VEVENT
DTSTAMP:20260125T060514Z
DTSTART:20260128T101500
DTEND:20260128T121500
SUMMARY:Agency of Transportation FY27 Budget\n\nPolicy\, Planning and Res
 earch Budget\n\nDavid Pelletier\, Systems Planning Manager\, Agency of T
 ransportation - Room 43
TZID:America/New_York
UID:20260125T061022Z-uidGen@richgoldman-357e73
END:VEVENT
BEGIN:VALARM
TRIGGER:-PT15M
ACTION:DISPLAY
DESCRIPTION:Agency of Transportation FY27 Budget\n\nPolicy\, Planning and
  Research Budget\n\nDavid Pelletier\, Systems Planning Manager\, Agency 
 of Transportation - Room 43
END:VALARM
END:VCALENDAR
