BEGIN:VCALENDAR
CALSCALE:GREGORIAN
PRODID:-//Ben Fortuna//iCal4j 1.0//EN
VERSION:2.0
BEGIN:VEVENT
DTSTAMP:20260125T060514Z
DTSTART:20260128T100000
DTEND:20260128T120000
SUMMARY:26-0743 - An act relating to miscellaneous amendments to laws rel
 ating to motor vehicles\n\nSection 2\n\nMatthew Rousseau\, Deputy Commis
 sioner\, Department of Motor Vehicles\n\nNancy Prescott\, Director of Op
 erations\, Department of Motor Vehicles\n\nMonique Sullivan\, Facilities
  Operations Manager\, Department of Corrections - Room 3
TZID:America/New_York
UID:20260125T061012Z-uidGen@richgoldman-357e73
END:VEVENT
BEGIN:VALARM
TRIGGER:-PT15M
ACTION:DISPLAY
DESCRIPTION:26-0743 - An act relating to miscellaneous amendments to laws
  relating to motor vehicles\n\nSection 2\n\nMatthew Rousseau\, Deputy Co
 mmissioner\, Department of Motor Vehicles\n\nNancy Prescott\, Director o
 f Operations\, Department of Motor Vehicles\n\nMonique Sullivan\, Facili
 ties Operations Manager\, Department of Corrections - Room 3
END:VALARM
END:VCALENDAR
