BEGIN:VCALENDAR
CALSCALE:GREGORIAN
PRODID:-//Ben Fortuna//iCal4j 1.0//EN
VERSION:2.0
BEGIN:VEVENT
DTSTAMP:20260125T060514Z
DTSTART:20260128T110000
DTEND:20260128T130000
SUMMARY:26-0726 - An act relating to copper-based to fiber-based network 
 transitions and battery backup requirements\n\nFeedback\n\nHunter Thomps
 on\, Telecommunications and Connectivity Director\, Department of Public
  Service\n\nKimberly Gates\, Controller\, Franklin Telephone and Indepen
 dent Telephone Companies - Room 32
TZID:America/New_York
UID:20260125T061057Z-uidGen@richgoldman-357e73
END:VEVENT
BEGIN:VALARM
TRIGGER:-PT15M
ACTION:DISPLAY
DESCRIPTION:26-0726 - An act relating to copper-based to fiber-based netw
 ork transitions and battery backup requirements\n\nFeedback\n\nHunter Th
 ompson\, Telecommunications and Connectivity Director\, Department of Pu
 blic Service\n\nKimberly Gates\, Controller\, Franklin Telephone and Ind
 ependent Telephone Companies - Room 32
END:VALARM
END:VCALENDAR
