BEGIN:VCALENDAR
CALSCALE:GREGORIAN
PRODID:-//Ben Fortuna//iCal4j 1.0//EN
VERSION:2.0
BEGIN:VEVENT
DTSTAMP:20260125T060513Z
DTSTART:20260128T100000
DTEND:20260128T120000
SUMMARY:Act 73 Report on Regional Assessment Districts\n\nJill Remick\, D
 irector of Property Valuation and Review\, Department of Taxes\n\nRebecc
 a Sameroff\, Deputy Commissioner\, Department of Taxes - Room 45
TZID:America/New_York
UID:20260125T061010Z-uidGen@richgoldman-357e73
END:VEVENT
BEGIN:VALARM
TRIGGER:-PT15M
ACTION:DISPLAY
DESCRIPTION:Act 73 Report on Regional Assessment Districts\n\nJill Remick
 \, Director of Property Valuation and Review\, Department of Taxes\n\nRe
 becca Sameroff\, Deputy Commissioner\, Department of Taxes - Room 45
END:VALARM
END:VCALENDAR
