BEGIN:VCALENDAR
CALSCALE:GREGORIAN
PRODID:-//Ben Fortuna//iCal4j 1.0//EN
VERSION:2.0
BEGIN:VEVENT
DTSTAMP:20260128T160014Z
DTSTART:20260128T095500
DTEND:20260128T115500
SUMMARY:Break - Room 28
TZID:America/New_York
UID:20260128T160025Z-uidGen@richgoldman-357e73
END:VEVENT
BEGIN:VALARM
TRIGGER:-PT15M
ACTION:DISPLAY
DESCRIPTION:Break - Room 28
END:VALARM
END:VCALENDAR
