BEGIN:VCALENDAR
CALSCALE:GREGORIAN
PRODID:-//Ben Fortuna//iCal4j 1.0//EN
VERSION:2.0
BEGIN:VEVENT
DTSTAMP:20260128T150030Z
DTSTART:20260128T095000
DTEND:20260128T115000
SUMMARY:Champlain Valley Farmers Coalition\n\nBrian Kemp\, Organic Beef F
 armer\n\nTim Kayhart\, Vice President\, Champlain Valley Farmer Coalitio
 n\, Kayhart Brothers Farm\n\nKate Longfield\, Executive Director\, Champ
 lain Valley Farmer Coalition - Room 28
TZID:America/New_York
UID:20260128T150054Z-uidGen@richgoldman-357e73
END:VEVENT
BEGIN:VALARM
TRIGGER:-PT15M
ACTION:DISPLAY
DESCRIPTION:Champlain Valley Farmers Coalition\n\nBrian Kemp\, Organic Be
 ef Farmer\n\nTim Kayhart\, Vice President\, Champlain Valley Farmer Coal
 ition\, Kayhart Brothers Farm\n\nKate Longfield\, Executive Director\, C
 hamplain Valley Farmer Coalition - Room 28
END:VALARM
END:VCALENDAR
