BEGIN:VCALENDAR
CALSCALE:GREGORIAN
PRODID:-//Ben Fortuna//iCal4j 1.0//EN
VERSION:2.0
BEGIN:VEVENT
DTSTAMP:20260128T170014Z
DTSTART:20260128T094500
DTEND:20260128T114500
SUMMARY:H. 758 - An act relating to banning the use of rodenticides\n\nBi
 ll Introduction and Walk Through\n\nBradley Showman\, Legislative Counse
 l\, Office of Legislative Counsel - Room 49
TZID:America/New_York
UID:20260128T170016Z-uidGen@richgoldman-357e73
END:VEVENT
BEGIN:VALARM
TRIGGER:-PT15M
ACTION:DISPLAY
DESCRIPTION:H. 758 - An act relating to banning the use of rodenticides\n
 \nBill Introduction and Walk Through\n\nBradley Showman\, Legislative Co
 unsel\, Office of Legislative Counsel - Room 49
END:VALARM
END:VCALENDAR
