BEGIN:VCALENDAR
CALSCALE:GREGORIAN
PRODID:-//Ben Fortuna//iCal4j 1.0//EN
VERSION:2.0
BEGIN:VEVENT
DTSTAMP:20260123T220010Z
DTSTART:20260128T093000
DTEND:20260128T113000
SUMMARY: - Room 49
TZID:America/New_York
UID:20260123T220044Z-uidGen@richgoldman-357e73
END:VEVENT
BEGIN:VALARM
TRIGGER:-PT15M
ACTION:DISPLAY
DESCRIPTION: - Room 49
END:VALARM
END:VCALENDAR
