BEGIN:VCALENDAR
CALSCALE:GREGORIAN
PRODID:-//Ben Fortuna//iCal4j 1.0//EN
VERSION:2.0
BEGIN:VEVENT
DTSTAMP:20260125T060513Z
DTSTART:20260128T093000
DTEND:20260128T113000
SUMMARY:H. 758 - An act relating to banning the use of rodenticides\n\nBi
 ll Introduction\n\nRep. Larry Satcowitz\, Sponsor - Invited\n\nBradley S
 howman\, Legislative Counsel\, Office of Legislative Counsel - Invited -
  Room 49
TZID:America/New_York
UID:20260125T060945Z-uidGen@richgoldman-357e73
END:VEVENT
BEGIN:VALARM
TRIGGER:-PT15M
ACTION:DISPLAY
DESCRIPTION:H. 758 - An act relating to banning the use of rodenticides\n
 \nBill Introduction\n\nRep. Larry Satcowitz\, Sponsor - Invited\n\nBradl
 ey Showman\, Legislative Counsel\, Office of Legislative Counsel - Invit
 ed - Room 49
END:VALARM
END:VCALENDAR
