BEGIN:VCALENDAR
CALSCALE:GREGORIAN
PRODID:-//Ben Fortuna//iCal4j 1.0//EN
VERSION:2.0
BEGIN:VEVENT
DTSTAMP:20260125T060513Z
DTSTART:20260128T093000
DTEND:20260128T113000
SUMMARY:Field Trip\n\nFecteau Homes site visit of manufactured housing\n\
 nThis meeting will not be livestreamed - Room 31
TZID:America/New_York
UID:20260125T060948Z-uidGen@richgoldman-357e73
END:VEVENT
BEGIN:VALARM
TRIGGER:-PT15M
ACTION:DISPLAY
DESCRIPTION:Field Trip\n\nFecteau Homes site visit of manufactured housin
 g\n\nThis meeting will not be livestreamed - Room 31
END:VALARM
END:VCALENDAR
