BEGIN:VCALENDAR
CALSCALE:GREGORIAN
PRODID:-//Ben Fortuna//iCal4j 1.0//EN
VERSION:2.0
BEGIN:VEVENT
DTSTAMP:20260126T150030Z
DTSTART:20260128T093000
DTEND:20260128T113000
SUMMARY:H. 585 - An act relating to health insurance reforms\n\nTestimony
  - Plan Options for Vermonters\n\nChelsea Bardot Lewis\, Executive Direc
 tor\, Vermont Business for Social Responsibility (VBSR) - Zoom\n\nEmma P
 aradis\, Common Good Vermont Co-Director\, United Way of Northwest Vermo
 nt\n\nMike Fisher\, Chief Health Care Advocate\, Vermont Legal Aid - Roo
 m 42
TZID:America/New_York
UID:20260126T150038Z-uidGen@richgoldman-357e73
END:VEVENT
BEGIN:VALARM
TRIGGER:-PT15M
ACTION:DISPLAY
DESCRIPTION:H. 585 - An act relating to health insurance reforms\n\nTesti
 mony - Plan Options for Vermonters\n\nChelsea Bardot Lewis\, Executive D
 irector\, Vermont Business for Social Responsibility (VBSR) - Zoom\n\nEm
 ma Paradis\, Common Good Vermont Co-Director\, United Way of Northwest V
 ermont\n\nMike Fisher\, Chief Health Care Advocate\, Vermont Legal Aid -
  Room 42
END:VALARM
END:VCALENDAR
