BEGIN:VCALENDAR
CALSCALE:GREGORIAN
PRODID:-//Ben Fortuna//iCal4j 1.0//EN
VERSION:2.0
BEGIN:VEVENT
DTSTAMP:20260125T210243Z
DTSTART:20260128T090000
DTEND:20260128T110000
SUMMARY:S. 206 - An act relating to licensure of early childhood educator
 s by the Office of Professional Regulation\n\nKatie McLinn\, Legislative
  Counsel\, Office of Legislative Counsel\n\nMorgan Crossman\, Ph.D.\, Ex
 ecutive Director\, Building Bright Futures\n\nAnna Brouillette\, Policy 
 and Program Director\, Building Bright Futures\n\nSusan Titterton\, Prog
 ram Coordinator\, Vermont Association for the Education of Young Childre
 n\n\nSharron Harrington\, Executive Director\, Vermont Association for t
 he Education of Young Children\n\nLauren Hibbert\, Deputy Secretary of S
 tate\, Secretary of State's Office - Zoom\n\nJen Colin\, Director\, Offi
 ce of Professional Regulation\, Secretary of State's Office\n\nJohanna d
 e Graffenreid\, Public Policy Manager\, Vermont Businesses for Social Re
 sponsibility - Room 17
TZID:America/New_York
UID:20260125T210243Z-uidGen@richgoldman-357e73
END:VEVENT
BEGIN:VALARM
TRIGGER:-PT15M
ACTION:DISPLAY
DESCRIPTION:S. 206 - An act relating to licensure of early childhood educ
 ators by the Office of Professional Regulation\n\nKatie McLinn\, Legisla
 tive Counsel\, Office of Legislative Counsel\n\nMorgan Crossman\, Ph.D.\
 , Executive Director\, Building Bright Futures\n\nAnna Brouillette\, Pol
 icy and Program Director\, Building Bright Futures\n\nSusan Titterton\, 
 Program Coordinator\, Vermont Association for the Education of Young Chi
 ldren\n\nSharron Harrington\, Executive Director\, Vermont Association f
 or the Education of Young Children\n\nLauren Hibbert\, Deputy Secretary 
 of State\, Secretary of State's Office - Zoom\n\nJen Colin\, Director\, 
 Office of Professional Regulation\, Secretary of State's Office\n\nJohan
 na de Graffenreid\, Public Policy Manager\, Vermont Businesses for Socia
 l Responsibility - Room 17
END:VALARM
END:VCALENDAR
