BEGIN:VCALENDAR
CALSCALE:GREGORIAN
PRODID:-//Ben Fortuna//iCal4j 1.0//EN
VERSION:2.0
BEGIN:VEVENT
DTSTAMP:20260126T180014Z
DTSTART:20260128T090000
DTEND:20260128T110000
SUMMARY:Governor’s Proposed FY2027 Budget\n\nAHS Budget\n\nJenney Samuels
 on\, Secretary\, Agency of Human Services\n\nTracy O'Connell\, Chief Fin
 ancial Officer\, Agency of Human Services\n\nKristin McClure\, Deputy Se
 cretary\, Agency of Human Services\n\nJill Mazza Olson\, Medicaid and He
 alth Systems Director\, Agency of Human Services\n\nSandi Hoffman\, Inte
 rim Commissioner\, Department for Children and Families\n\nJon Murad\, I
 nterim Commissioner\, Department of Corrections\n\nDr. Rick Hildebrant\,
  MD\, Commissioner\, Department of Health\n\nEmily Hawes\, Commissioner\
 , Department of Mental Health\n\nDr. Jill Bowen\, Commissioner\, Departm
 ent of Disabilities\, Aging and Independent Living\n\nDaShawn Groves\, C
 ommissioner\, Department of Vermont Health Access (DVHA) - Room 46
TZID:America/New_York
UID:20260126T180029Z-uidGen@richgoldman-357e73
END:VEVENT
BEGIN:VALARM
TRIGGER:-PT15M
ACTION:DISPLAY
DESCRIPTION:Governor’s Proposed FY2027 Budget\n\nAHS Budget\n\nJenney Sam
 uelson\, Secretary\, Agency of Human Services\n\nTracy O'Connell\, Chief
  Financial Officer\, Agency of Human Services\n\nKristin McClure\, Deput
 y Secretary\, Agency of Human Services\n\nJill Mazza Olson\, Medicaid an
 d Health Systems Director\, Agency of Human Services\n\nSandi Hoffman\, 
 Interim Commissioner\, Department for Children and Families\n\nJon Murad
 \, Interim Commissioner\, Department of Corrections\n\nDr. Rick Hildebra
 nt\, MD\, Commissioner\, Department of Health\n\nEmily Hawes\, Commissio
 ner\, Department of Mental Health\n\nDr. Jill Bowen\, Commissioner\, Dep
 artment of Disabilities\, Aging and Independent Living\n\nDaShawn Groves
 \, Commissioner\, Department of Vermont Health Access (DVHA) - Room 46
END:VALARM
END:VCALENDAR
