BEGIN:VCALENDAR
CALSCALE:GREGORIAN
PRODID:-//Ben Fortuna//iCal4j 1.0//EN
VERSION:2.0
BEGIN:VEVENT
DTSTAMP:20260125T060513Z
DTSTART:20260128T090000
DTEND:20260128T110000
SUMMARY:S. 211 - An act relating to motor vehicle inspections\n\nIntroduc
 tion\, walk-through\n\nSen. Rebecca "Becca" White\, Sponsor\n\nDamien Le
 onard\, Legislative Counsel\, Office of Legislative Counsel - Invited\n\
 nDan Merchand\, Motor Vehicle Field Inspector Supervisor\, Department of
  Motor Vehicles\n\nWade Cochran\, Director of Enforcement and Safety\, D
 epartment of Motor Vehicles - Room 3
TZID:America/New_York
UID:20260125T060943Z-uidGen@richgoldman-357e73
END:VEVENT
BEGIN:VALARM
TRIGGER:-PT15M
ACTION:DISPLAY
DESCRIPTION:S. 211 - An act relating to motor vehicle inspections\n\nIntr
 oduction\, walk-through\n\nSen. Rebecca "Becca" White\, Sponsor\n\nDamie
 n Leonard\, Legislative Counsel\, Office of Legislative Counsel - Invite
 d\n\nDan Merchand\, Motor Vehicle Field Inspector Supervisor\, Departmen
 t of Motor Vehicles\n\nWade Cochran\, Director of Enforcement and Safety
 \, Department of Motor Vehicles - Room 3
END:VALARM
END:VCALENDAR
