BEGIN:VCALENDAR
CALSCALE:GREGORIAN
PRODID:-//Ben Fortuna//iCal4j 1.0//EN
VERSION:2.0
BEGIN:VEVENT
DTSTAMP:20260127T000016Z
DTSTART:20260128T090000
DTEND:20260128T110000
SUMMARY:H. 205 - An act relating to agreements not to compete\n\nStrike-a
 ll Bill Incorporating H. 334\n\nSophie Zdatny\, Legislative Counsel\, Of
 fice of Legislative Counsel\n\nChris D'Elia\, President\, Vermont Banker
 s' Association\n\nDavid Mickenberg\, Lobbyist\, Working Vermont - Invite
 d\n\nWitnesses TBD - Room 35
TZID:America/New_York
UID:20260127T000018Z-uidGen@richgoldman-357e73
END:VEVENT
BEGIN:VALARM
TRIGGER:-PT15M
ACTION:DISPLAY
DESCRIPTION:H. 205 - An act relating to agreements not to compete\n\nStri
 ke-all Bill Incorporating H. 334\n\nSophie Zdatny\, Legislative Counsel\
 , Office of Legislative Counsel\n\nChris D'Elia\, President\, Vermont Ba
 nkers' Association\n\nDavid Mickenberg\, Lobbyist\, Working Vermont - In
 vited\n\nWitnesses TBD - Room 35
END:VALARM
END:VCALENDAR
