BEGIN:VCALENDAR
CALSCALE:GREGORIAN
PRODID:-//Ben Fortuna//iCal4j 1.0//EN
VERSION:2.0
BEGIN:VEVENT
DTSTAMP:20260128T150030Z
DTSTART:20260128T090000
DTEND:20260128T110000
SUMMARY:H. 205 - An act relating to agreements not to compete\n\nTestimon
 y on Strike-all Bill Incorporating H. 334 from 9:00 - 10:30 a.m.\n\nJess
 a Barnard\, Executive Director\, Vermont Medical Society\n\nChris D'Elia
 \, President\, Vermont Bankers' Association\n\nDavid Mickenberg\, Lobbyi
 st\, Working Vermont\n\nAustin Davis\, Director\, Government Affairs\, L
 ake Champlain Regional Chamber of Commerce\n\nSara Crandall\, Citizen - 
 Zoom - Room 35
TZID:America/New_York
UID:20260128T150035Z-uidGen@richgoldman-357e73
END:VEVENT
BEGIN:VALARM
TRIGGER:-PT15M
ACTION:DISPLAY
DESCRIPTION:H. 205 - An act relating to agreements not to compete\n\nTest
 imony on Strike-all Bill Incorporating H. 334 from 9:00 - 10:30 a.m.\n\n
 Jessa Barnard\, Executive Director\, Vermont Medical Society\n\nChris D'
 Elia\, President\, Vermont Bankers' Association\n\nDavid Mickenberg\, Lo
 bbyist\, Working Vermont\n\nAustin Davis\, Director\, Government Affairs
 \, Lake Champlain Regional Chamber of Commerce\n\nSara Crandall\, Citize
 n - Zoom - Room 35
END:VALARM
END:VCALENDAR
