BEGIN:VCALENDAR
CALSCALE:GREGORIAN
PRODID:-//Ben Fortuna//iCal4j 1.0//EN
VERSION:2.0
BEGIN:VEVENT
DTSTAMP:20260125T060513Z
DTSTART:20260128T100000
DTEND:20260128T120000
SUMMARY:H. 527 - An act relating to extending the sunset of 30 V.S. A. §2
 48a\n\nWalk-through and Mark-up\n\nEllen Czajkowski\, Legislative Counse
 l\, Office of Legislative Counsel - Room 32
TZID:America/New_York
UID:20260125T061007Z-uidGen@richgoldman-357e73
END:VEVENT
BEGIN:VALARM
TRIGGER:-PT15M
ACTION:DISPLAY
DESCRIPTION:H. 527 - An act relating to extending the sunset of 30 V.S. A
 . §248a\n\nWalk-through and Mark-up\n\nEllen Czajkowski\, Legislative Co
 unsel\, Office of Legislative Counsel - Room 32
END:VALARM
END:VCALENDAR
