BEGIN:VCALENDAR
CALSCALE:GREGORIAN
PRODID:-//Ben Fortuna//iCal4j 1.0//EN
VERSION:2.0
BEGIN:VEVENT
DTSTAMP:20260128T160014Z
DTSTART:20260128T100000
DTEND:20260128T120000
SUMMARY:26-0726 - An act relating to copper-based to fiber-based network 
 transitions and battery backup requirements\n\nFeedback\n\nSarah Davis\,
  VP of Market Development\, Consolidated Communications/Fidium Fiber\n\n
 Maria Royle\, Legislative Counsel\, Office of Legislative Counsel - Room
  32
TZID:America/New_York
UID:20260128T160029Z-uidGen@richgoldman-357e73
END:VEVENT
BEGIN:VALARM
TRIGGER:-PT15M
ACTION:DISPLAY
DESCRIPTION:26-0726 - An act relating to copper-based to fiber-based netw
 ork transitions and battery backup requirements\n\nFeedback\n\nSarah Dav
 is\, VP of Market Development\, Consolidated Communications/Fidium Fiber
 \n\nMaria Royle\, Legislative Counsel\, Office of Legislative Counsel - 
 Room 32
END:VALARM
END:VCALENDAR
