BEGIN:VCALENDAR
CALSCALE:GREGORIAN
PRODID:-//Ben Fortuna//iCal4j 1.0//EN
VERSION:2.0
BEGIN:VEVENT
DTSTAMP:20260125T060513Z
DTSTART:20260128T090000
DTEND:20260128T110000
SUMMARY:H. 585 - An act relating to health insurance reforms\n\nWalk-thro
 ugh\n\nJennifer Carbee\, Deputy Chief Counsel\, Office of Legislative Co
 unsel - Room 42
TZID:America/New_York
UID:20260125T060925Z-uidGen@richgoldman-357e73
END:VEVENT
BEGIN:VALARM
TRIGGER:-PT15M
ACTION:DISPLAY
DESCRIPTION:H. 585 - An act relating to health insurance reforms\n\nWalk-
 through\n\nJennifer Carbee\, Deputy Chief Counsel\, Office of Legislativ
 e Counsel - Room 42
END:VALARM
END:VCALENDAR
