BEGIN:VCALENDAR
CALSCALE:GREGORIAN
PRODID:-//Ben Fortuna//iCal4j 1.0//EN
VERSION:2.0
BEGIN:VEVENT
DTSTAMP:20260125T060513Z
DTSTART:20260128T090000
DTEND:20260128T110000
SUMMARY:Property Valuation Report\n\nJill Remick\, Director of Property V
 aluation and Review\, Department of Taxes - Room 45
TZID:America/New_York
UID:20260125T060933Z-uidGen@richgoldman-357e73
END:VEVENT
BEGIN:VALARM
TRIGGER:-PT15M
ACTION:DISPLAY
DESCRIPTION:Property Valuation Report\n\nJill Remick\, Director of Proper
 ty Valuation and Review\, Department of Taxes - Room 45
END:VALARM
END:VCALENDAR
