BEGIN:VCALENDAR
CALSCALE:GREGORIAN
PRODID:-//Ben Fortuna//iCal4j 1.0//EN
VERSION:2.0
BEGIN:VEVENT
DTSTAMP:20260127T170014Z
DTSTART:20260128T090000
DTEND:20260128T110000
SUMMARY:Food is Medicine\n\noverview of group's work\n\nTina Zuk\, Govern
 ment Relations Director\, American Heart Association\n\nMary Kate Mohlma
 n\, Director of Public Policy\, Bi-State Primary Care Association\n\nMau
 reen Boardman\, Clinician\, Little River Health Care - Zoom\n\nChristine
  Hadekel\, Food and Farm Program Director\, Vermont Youth Conservation C
 orps\n\nStephanie Pinard\, Community Resource Director\, People's Health
  & Wellness Clinic\n\nDanielle Allen\, Farmer\, Root 5 Farm\, Fairlee\, 
 VT - Zoom\n\nGrace Woroch\, Manager of Produce Prescription\, Vermont Yo
 uth Conservation Corps - Room 28
TZID:America/New_York
UID:20260127T170035Z-uidGen@richgoldman-357e73
END:VEVENT
BEGIN:VALARM
TRIGGER:-PT15M
ACTION:DISPLAY
DESCRIPTION:Food is Medicine\n\noverview of group's work\n\nTina Zuk\, Go
 vernment Relations Director\, American Heart Association\n\nMary Kate Mo
 hlman\, Director of Public Policy\, Bi-State Primary Care Association\n\
 nMaureen Boardman\, Clinician\, Little River Health Care - Zoom\n\nChris
 tine Hadekel\, Food and Farm Program Director\, Vermont Youth Conservati
 on Corps\n\nStephanie Pinard\, Community Resource Director\, People's He
 alth & Wellness Clinic\n\nDanielle Allen\, Farmer\, Root 5 Farm\, Fairle
 e\, VT - Zoom\n\nGrace Woroch\, Manager of Produce Prescription\, Vermon
 t Youth Conservation Corps - Room 28
END:VALARM
END:VCALENDAR
