BEGIN:VCALENDAR
CALSCALE:GREGORIAN
PRODID:-//Ben Fortuna//iCal4j 1.0//EN
VERSION:2.0
BEGIN:VEVENT
DTSTAMP:20260125T060513Z
DTSTART:20260128T090000
DTEND:20260128T110000
SUMMARY:Agency of Transportation FY27 Budget\n\nMunicipal Programs\, Gran
 t Programs\, Park and Rides\n\nJennifer Fitch\, Project Delivery Bureau\
 , Agency of Transportation\n\nJoel Perrigo\, Municipal Assistance Progra
 m Manager\, Agency of Transportation - Room 43
TZID:America/New_York
UID:20260125T060930Z-uidGen@richgoldman-357e73
END:VEVENT
BEGIN:VALARM
TRIGGER:-PT15M
ACTION:DISPLAY
DESCRIPTION:Agency of Transportation FY27 Budget\n\nMunicipal Programs\, 
 Grant Programs\, Park and Rides\n\nJennifer Fitch\, Project Delivery Bur
 eau\, Agency of Transportation\n\nJoel Perrigo\, Municipal Assistance Pr
 ogram Manager\, Agency of Transportation - Room 43
END:VALARM
END:VCALENDAR
