BEGIN:VCALENDAR
CALSCALE:GREGORIAN
PRODID:-//Ben Fortuna//iCal4j 1.0//EN
VERSION:2.0
BEGIN:VEVENT
DTSTAMP:20260128T160014Z
DTSTART:20260128T083500
DTEND:20260128T103500
SUMMARY:Capital Budget Adjustment\n\nSection 14 - Judiciary\n\nTeri Corso
 nes\, State Court Administrator\, Vermont Judiciary\n\nGregg Mousley\, C
 hief of Finance and Administration\, Vermont Judiciary\n\nJoe Aja\, Dire
 ctor Design & Construction\, Department of Buildings and General Service
 s\n\nKenn Stransky\, Assistant Judge\, Essex County Court\n\nScott Moore
 \, Legislative Finance Manager\, Joint Fiscal Office\n\nJon Gray\, Legis
 lative Counsel\, Office of Legislative Counsel\n\nEmily Kisicki\, Deputy
  Commissioner\, Department of Buildings and General Services - Room 34
TZID:America/New_York
UID:20260128T160015Z-uidGen@richgoldman-357e73
END:VEVENT
BEGIN:VALARM
TRIGGER:-PT15M
ACTION:DISPLAY
DESCRIPTION:Capital Budget Adjustment\n\nSection 14 - Judiciary\n\nTeri C
 orsones\, State Court Administrator\, Vermont Judiciary\n\nGregg Mousley
 \, Chief of Finance and Administration\, Vermont Judiciary\n\nJoe Aja\, 
 Director Design & Construction\, Department of Buildings and General Ser
 vices\n\nKenn Stransky\, Assistant Judge\, Essex County Court\n\nScott M
 oore\, Legislative Finance Manager\, Joint Fiscal Office\n\nJon Gray\, L
 egislative Counsel\, Office of Legislative Counsel\n\nEmily Kisicki\, De
 puty Commissioner\, Department of Buildings and General Services - Room 
 34
END:VALARM
END:VCALENDAR
