BEGIN:VCALENDAR
CALSCALE:GREGORIAN
PRODID:-//Ben Fortuna//iCal4j 1.0//EN
VERSION:2.0
BEGIN:VEVENT
DTSTAMP:20260126T180014Z
DTSTART:20260128T023000
DTEND:20260128T043000
SUMMARY:H. 677 - An act relating to primary\, secondary\, and local impor
 tance agricultural soils and solar energy generation\n\nBill Walk-throug
 h by Legislative Counsel\n\nEllen Czajkowski\, Legislative Counsel\, Off
 ice of Legislative Counsel - Room 49
TZID:America/New_York
UID:20260126T180027Z-uidGen@richgoldman-357e73
END:VEVENT
BEGIN:VALARM
TRIGGER:-PT15M
ACTION:DISPLAY
DESCRIPTION:H. 677 - An act relating to primary\, secondary\, and local i
 mportance agricultural soils and solar energy generation\n\nBill Walk-th
 rough by Legislative Counsel\n\nEllen Czajkowski\, Legislative Counsel\,
  Office of Legislative Counsel - Room 49
END:VALARM
END:VCALENDAR
