BEGIN:VCALENDAR
CALSCALE:GREGORIAN
PRODID:-//Ben Fortuna//iCal4j 1.0//EN
VERSION:2.0
BEGIN:VEVENT
DTSTAMP:20260126T200014Z
DTSTART:20260127T154500
DTEND:20260127T174500
SUMMARY:Budget Process\n\nJames Duffy\, Fiscal Analyst\, Joint Fiscal Off
 ice\n\n" - Room EA
TZID:America/New_York
UID:20260126T200029Z-uidGen@richgoldman-357e73
END:VEVENT
BEGIN:VALARM
TRIGGER:-PT15M
ACTION:DISPLAY
DESCRIPTION:Budget Process\n\nJames Duffy\, Fiscal Analyst\, Joint Fiscal
  Office\n\n" - Room EA
END:VALARM
END:VCALENDAR
