BEGIN:VCALENDAR
CALSCALE:GREGORIAN
PRODID:-//Ben Fortuna//iCal4j 1.0//EN
VERSION:2.0
BEGIN:VEVENT
DTSTAMP:20260127T230013Z
DTSTART:20260127T153500
DTEND:20260127T173500
SUMMARY:FY27 Budget\n\nJoint Hearing with House Education Committee\n\nTh
 e hearing will take place in Room 11 and be livestreamed on the House Ed
 ucation Committee's YouTube page: https://legislature.vermont.gov/commit
 tee/streaming/house-education\n\nAgency of Education FY27 Budget Present
 ation\n\nJill Briggs Campbell\, Deputy Secretary\, Agency of Education\n
 \nCassandra Ryan\, Chief Financial Officer\, Agency of Education\n\nSean
  Cousino\, Deputy Chief Financial Officer\, Agency of Education - Room 2
 8
TZID:America/New_York
UID:20260127T230027Z-uidGen@richgoldman-357e73
END:VEVENT
BEGIN:VALARM
TRIGGER:-PT15M
ACTION:DISPLAY
DESCRIPTION:FY27 Budget\n\nJoint Hearing with House Education Committee\n
 \nThe hearing will take place in Room 11 and be livestreamed on the Hous
 e Education Committee's YouTube page: https://legislature.vermont.gov/co
 mmittee/streaming/house-education\n\nAgency of Education FY27 Budget Pre
 sentation\n\nJill Briggs Campbell\, Deputy Secretary\, Agency of Educati
 on\n\nCassandra Ryan\, Chief Financial Officer\, Agency of Education\n\n
 Sean Cousino\, Deputy Chief Financial Officer\, Agency of Education - Ro
 om 28
END:VALARM
END:VCALENDAR
