BEGIN:VCALENDAR
CALSCALE:GREGORIAN
PRODID:-//Ben Fortuna//iCal4j 1.0//EN
VERSION:2.0
BEGIN:VEVENT
DTSTAMP:20260125T060513Z
DTSTART:20260127T153000
DTEND:20260127T173000
SUMMARY:FY27 Budget\n\nJoint Hearing with Senate Education Committee\n\nT
 his hearing will take place in Room 11 and will be livestreamed on the H
 ouse Education Committee YouTube page\n\nAgency of Education FY27 Budget
  Presentation\n\nJill Briggs Campbell\, Deputy Secretary\, Agency of Edu
 cation\n\nCassandra Ryan\, Chief Financial Officer\, Agency of Education
 \n\nSean Cousino\, Deputy Chief Financial Officer\, Agency of Education\
 n\n" - Room M103
TZID:America/New_York
UID:20260125T060856Z-uidGen@richgoldman-357e73
END:VEVENT
BEGIN:VALARM
TRIGGER:-PT15M
ACTION:DISPLAY
DESCRIPTION:FY27 Budget\n\nJoint Hearing with Senate Education Committee\
 n\nThis hearing will take place in Room 11 and will be livestreamed on t
 he House Education Committee YouTube page\n\nAgency of Education FY27 Bu
 dget Presentation\n\nJill Briggs Campbell\, Deputy Secretary\, Agency of
  Education\n\nCassandra Ryan\, Chief Financial Officer\, Agency of Educa
 tion\n\nSean Cousino\, Deputy Chief Financial Officer\, Agency of Educat
 ion\n\n" - Room M103
END:VALARM
END:VCALENDAR
