BEGIN:VCALENDAR
CALSCALE:GREGORIAN
PRODID:-//Ben Fortuna//iCal4j 1.0//EN
VERSION:2.0
BEGIN:VEVENT
DTSTAMP:20260127T150030Z
DTSTART:20260127T150000
DTEND:20260127T170000
SUMMARY:H. 632 - An act relating to miscellaneous environmental amendment
 s\n\nCommercial Rechargeable Fire Extinguishers\n\nWilliam Smith\, Law O
 ffice of William S Smith\n\nJeff Terrey\, Principal\, Rasky Partners\n\n
 Steve Duke\, VT Fire Exintguisher\n\nDwayne Garriss\, Synergy Consortium
  Group - Room EA
TZID:America/New_York
UID:20260127T150049Z-uidGen@richgoldman-357e73
END:VEVENT
BEGIN:VALARM
TRIGGER:-PT15M
ACTION:DISPLAY
DESCRIPTION:H. 632 - An act relating to miscellaneous environmental amend
 ments\n\nCommercial Rechargeable Fire Extinguishers\n\nWilliam Smith\, L
 aw Office of William S Smith\n\nJeff Terrey\, Principal\, Rasky Partners
 \n\nSteve Duke\, VT Fire Exintguisher\n\nDwayne Garriss\, Synergy Consor
 tium Group - Room EA
END:VALARM
END:VCALENDAR
