BEGIN:VCALENDAR
CALSCALE:GREGORIAN
PRODID:-//Ben Fortuna//iCal4j 1.0//EN
VERSION:2.0
BEGIN:VEVENT
DTSTAMP:20260127T150030Z
DTSTART:20260127T151500
DTEND:20260127T171500
SUMMARY:FY27 Budget\n\nDepartment of Libraries\n\nCatherine Delneo\, Comm
 issioner and State Librarian\, Vermont Department of Libraries\n\nHarley
  Oliver\, Financial Director II\, Financial Services Division\, Agency o
 f Administration\n\nHolly Ferrant\, Chief Financial Office\, Financial S
 ervices Division\, Agency of Administration\n\nJason Pinard\, Deputy Chi
 ef Financial Officer\, Financial Services Division\, Agency of Administr
 ation - Room 9
TZID:America/New_York
UID:20260127T150052Z-uidGen@richgoldman-357e73
END:VEVENT
BEGIN:VALARM
TRIGGER:-PT15M
ACTION:DISPLAY
DESCRIPTION:FY27 Budget\n\nDepartment of Libraries\n\nCatherine Delneo\, 
 Commissioner and State Librarian\, Vermont Department of Libraries\n\nHa
 rley Oliver\, Financial Director II\, Financial Services Division\, Agen
 cy of Administration\n\nHolly Ferrant\, Chief Financial Office\, Financi
 al Services Division\, Agency of Administration\n\nJason Pinard\, Deputy
  Chief Financial Officer\, Financial Services Division\, Agency of Admin
 istration - Room 9
END:VALARM
END:VCALENDAR
