BEGIN:VCALENDAR
CALSCALE:GREGORIAN
PRODID:-//Ben Fortuna//iCal4j 1.0//EN
VERSION:2.0
BEGIN:VEVENT
DTSTAMP:20260127T230013Z
DTSTART:20260127T150500
DTEND:20260127T170500
SUMMARY:FY27 Budget\n\nAgency of Administration\n\nNick Kramer\, Chief Op
 erating Officer\, Agency of Administration - Room 9
TZID:America/New_York
UID:20260127T230020Z-uidGen@richgoldman-357e73
END:VEVENT
BEGIN:VALARM
TRIGGER:-PT15M
ACTION:DISPLAY
DESCRIPTION:FY27 Budget\n\nAgency of Administration\n\nNick Kramer\, Chie
 f Operating Officer\, Agency of Administration - Room 9
END:VALARM
END:VCALENDAR
