BEGIN:VCALENDAR
CALSCALE:GREGORIAN
PRODID:-//Ben Fortuna//iCal4j 1.0//EN
VERSION:2.0
BEGIN:VEVENT
DTSTAMP:20260126T190012Z
DTSTART:20260127T144500
DTEND:20260127T164500
SUMMARY:H. 555 - An act relating to permitting disabled veterans to park 
 in metered spaces without charge\n\nWitness testimony\n\nMelissa Willett
 e\, New England Region Liaison\, Defense-State Liason Office\, Departmen
 t of War - Zoom\n\nMichelle Richart\, Military Family Advocate\, Departm
 ent of War - Zoom\n\nBob Burke\, Director\, Vermont Office of Veterans A
 ffairs\n\n" - Room M106
TZID:America/New_York
UID:20260126T190025Z-uidGen@richgoldman-357e73
END:VEVENT
BEGIN:VALARM
TRIGGER:-PT15M
ACTION:DISPLAY
DESCRIPTION:H. 555 - An act relating to permitting disabled veterans to p
 ark in metered spaces without charge\n\nWitness testimony\n\nMelissa Wil
 lette\, New England Region Liaison\, Defense-State Liason Office\, Depar
 tment of War - Zoom\n\nMichelle Richart\, Military Family Advocate\, Dep
 artment of War - Zoom\n\nBob Burke\, Director\, Vermont Office of Vetera
 ns Affairs\n\n" - Room M106
END:VALARM
END:VCALENDAR
