BEGIN:VCALENDAR
CALSCALE:GREGORIAN
PRODID:-//Ben Fortuna//iCal4j 1.0//EN
VERSION:2.0
BEGIN:VEVENT
DTSTAMP:20260127T160015Z
DTSTART:20260127T143000
DTEND:20260127T163000
SUMMARY:S. 280 - An act relating to an increased education property tax r
 ate for certain residential properties\n\nIntroduction and walk-through\
 n\nSen. Martine Larocque Gulick\, Sponsor\n\nKirby Keeton\, Legislative 
 Counsel\, Office of Legislative Counsel - Room 6
TZID:America/New_York
UID:20260127T160033Z-uidGen@richgoldman-357e73
END:VEVENT
BEGIN:VALARM
TRIGGER:-PT15M
ACTION:DISPLAY
DESCRIPTION:S. 280 - An act relating to an increased education property t
 ax rate for certain residential properties\n\nIntroduction and walk-thro
 ugh\n\nSen. Martine Larocque Gulick\, Sponsor\n\nKirby Keeton\, Legislat
 ive Counsel\, Office of Legislative Counsel - Room 6
END:VALARM
END:VCALENDAR
