BEGIN:VCALENDAR
CALSCALE:GREGORIAN
PRODID:-//Ben Fortuna//iCal4j 1.0//EN
VERSION:2.0
BEGIN:VEVENT
DTSTAMP:20260127T200014Z
DTSTART:20260127T142500
DTEND:20260127T162500
SUMMARY:H. 531 - An act relating to creating a preference for military sp
 ouses in hiring into State employment\n\nWitness testimony\n\nMelissa Wi
 llette\, New England Region Liaison\, Defense-State Liason Office\, Depa
 rtment of War - Zoom\n\nMichelle Richart\, Policy Priority Lead for Mili
 tary Spouse Hiring Preference\, Defense-State Liaison Office\, Departmen
 t of War - Zoom\n\nKristen LaJeunesse\, Military Spouse (Retired) - Zoom
  - Room M106
TZID:America/New_York
UID:20260127T200037Z-uidGen@richgoldman-357e73
END:VEVENT
BEGIN:VALARM
TRIGGER:-PT15M
ACTION:DISPLAY
DESCRIPTION:H. 531 - An act relating to creating a preference for militar
 y spouses in hiring into State employment\n\nWitness testimony\n\nMeliss
 a Willette\, New England Region Liaison\, Defense-State Liason Office\, 
 Department of War - Zoom\n\nMichelle Richart\, Policy Priority Lead for 
 Military Spouse Hiring Preference\, Defense-State Liaison Office\, Depar
 tment of War - Zoom\n\nKristen LaJeunesse\, Military Spouse (Retired) - 
 Zoom - Room M106
END:VALARM
END:VCALENDAR
