BEGIN:VCALENDAR
CALSCALE:GREGORIAN
PRODID:-//Ben Fortuna//iCal4j 1.0//EN
VERSION:2.0
BEGIN:VEVENT
DTSTAMP:20260127T230013Z
DTSTART:20260127T142000
DTEND:20260127T162000
SUMMARY:S. 286 - An act relating to a meals and rooms tax surcharge for s
 chool construction aid\n\nIntroduction and walk-through\n\nSen. Martine 
 Larocque Gulick\, Sponsor\n\nKirby Keeton\, Legislative Counsel\, Office
  of Legislative Counsel - Room 6
TZID:America/New_York
UID:20260127T230017Z-uidGen@richgoldman-357e73
END:VEVENT
BEGIN:VALARM
TRIGGER:-PT15M
ACTION:DISPLAY
DESCRIPTION:S. 286 - An act relating to a meals and rooms tax surcharge f
 or school construction aid\n\nIntroduction and walk-through\n\nSen. Mart
 ine Larocque Gulick\, Sponsor\n\nKirby Keeton\, Legislative Counsel\, Of
 fice of Legislative Counsel - Room 6
END:VALARM
END:VCALENDAR
