BEGIN:VCALENDAR
CALSCALE:GREGORIAN
PRODID:-//Ben Fortuna//iCal4j 1.0//EN
VERSION:2.0
BEGIN:VEVENT
DTSTAMP:20260125T060512Z
DTSTART:20260127T141500
DTEND:20260127T161500
SUMMARY:H. 531 - An act relating to creating a preference for military sp
 ouses in hiring into State employment\n\nWitness testimony\n\nMelissa Wi
 llette\, New England Region Liaison\, Defense-State Liason Office\, Depa
 rtment of War\n\nMichelle Richart\, Military Family Advocate\, Departmen
 t of War - Room M106
TZID:America/New_York
UID:20260125T060825Z-uidGen@richgoldman-357e73
END:VEVENT
BEGIN:VALARM
TRIGGER:-PT15M
ACTION:DISPLAY
DESCRIPTION:H. 531 - An act relating to creating a preference for militar
 y spouses in hiring into State employment\n\nWitness testimony\n\nMeliss
 a Willette\, New England Region Liaison\, Defense-State Liason Office\, 
 Department of War\n\nMichelle Richart\, Military Family Advocate\, Depar
 tment of War - Room M106
END:VALARM
END:VCALENDAR
