BEGIN:VCALENDAR
CALSCALE:GREGORIAN
PRODID:-//Ben Fortuna//iCal4j 1.0//EN
VERSION:2.0
BEGIN:VEVENT
DTSTAMP:20260125T060512Z
DTSTART:20260127T140000
DTEND:20260127T160000
SUMMARY:H. 473 - An act relating to the reintroduction of catamounts to t
 he State of Vermont\n\nRenee Seacor\, Northeast Rewilding Director\, Mig
 hty Earth - Room EA
TZID:America/New_York
UID:20260125T060804Z-uidGen@richgoldman-357e73
END:VEVENT
BEGIN:VALARM
TRIGGER:-PT15M
ACTION:DISPLAY
DESCRIPTION:H. 473 - An act relating to the reintroduction of catamounts 
 to the State of Vermont\n\nRenee Seacor\, Northeast Rewilding Director\,
  Mighty Earth - Room EA
END:VALARM
END:VCALENDAR
