BEGIN:VCALENDAR
CALSCALE:GREGORIAN
PRODID:-//Ben Fortuna//iCal4j 1.0//EN
VERSION:2.0
BEGIN:VEVENT
DTSTAMP:20260127T200014Z
DTSTART:20260127T141500
DTEND:20260127T161500
SUMMARY:Security Briefing\n\nThis item will not be livestreamed due to se
 nsitive content.\n\nAgatha Kessler\, Sergeant at Arms\, Vermont General 
 Assembly\n\nJohn Poleway\, Chief of Capitol Police\, Capitol Police Depa
 rtment\n\nSara Macera\, Capitol Police Department\n\nJoe Tremblay\, Capi
 tol Police Officer\, Capitol Police Department - Room 28
TZID:America/New_York
UID:20260127T200029Z-uidGen@richgoldman-357e73
END:VEVENT
BEGIN:VALARM
TRIGGER:-PT15M
ACTION:DISPLAY
DESCRIPTION:Security Briefing\n\nThis item will not be livestreamed due t
 o sensitive content.\n\nAgatha Kessler\, Sergeant at Arms\, Vermont Gene
 ral Assembly\n\nJohn Poleway\, Chief of Capitol Police\, Capitol Police 
 Department\n\nSara Macera\, Capitol Police Department\n\nJoe Tremblay\, 
 Capitol Police Officer\, Capitol Police Department - Room 28
END:VALARM
END:VCALENDAR
