BEGIN:VCALENDAR
CALSCALE:GREGORIAN
PRODID:-//Ben Fortuna//iCal4j 1.0//EN
VERSION:2.0
BEGIN:VEVENT
DTSTAMP:20260127T150030Z
DTSTART:20260127T134500
DTEND:20260127T154500
SUMMARY:FY27 Budget\n\nHuman Rights Commission\n\nBig Hartman\, Executive
  Director & General Counsel\, Vermont Human Rights Commission\n\nHolly F
 errant\, Chief Financial Office\, Financial Services Division\, Agency o
 f Administration\n\nJason Pinard\, Deputy Chief Financial Officer\, Fina
 ncial Services Division\, Agency of Administration - Room 5
TZID:America/New_York
UID:20260127T150043Z-uidGen@richgoldman-357e73
END:VEVENT
BEGIN:VALARM
TRIGGER:-PT15M
ACTION:DISPLAY
DESCRIPTION:FY27 Budget\n\nHuman Rights Commission\n\nBig Hartman\, Execu
 tive Director & General Counsel\, Vermont Human Rights Commission\n\nHol
 ly Ferrant\, Chief Financial Office\, Financial Services Division\, Agen
 cy of Administration\n\nJason Pinard\, Deputy Chief Financial Officer\, 
 Financial Services Division\, Agency of Administration - Room 5
END:VALARM
END:VCALENDAR
