BEGIN:VCALENDAR
CALSCALE:GREGORIAN
PRODID:-//Ben Fortuna//iCal4j 1.0//EN
VERSION:2.0
BEGIN:VEVENT
DTSTAMP:20260125T060512Z
DTSTART:20260127T140000
DTEND:20260127T160000
SUMMARY:S. 275 - An act relating to creation of the Cemetery Vandalism Re
 sponse Fund\n\nWalk-through\n\nSen. David Weeks\, Sponsor of the Amendme
 nt\n\nTom Giffin\, President\, Vermont Old Cemetery Association\n\nJon G
 ray\, Legislative Counsel\, Office of Legislative Counsel - Room 4
TZID:America/New_York
UID:20260125T060815Z-uidGen@richgoldman-357e73
END:VEVENT
BEGIN:VALARM
TRIGGER:-PT15M
ACTION:DISPLAY
DESCRIPTION:S. 275 - An act relating to creation of the Cemetery Vandalis
 m Response Fund\n\nWalk-through\n\nSen. David Weeks\, Sponsor of the Ame
 ndment\n\nTom Giffin\, President\, Vermont Old Cemetery Association\n\nJ
 on Gray\, Legislative Counsel\, Office of Legislative Counsel - Room 4
END:VALARM
END:VCALENDAR
