BEGIN:VCALENDAR
CALSCALE:GREGORIAN
PRODID:-//Ben Fortuna//iCal4j 1.0//EN
VERSION:2.0
BEGIN:VEVENT
DTSTAMP:20260125T060512Z
DTSTART:20260127T140000
DTEND:20260127T160000
SUMMARY:S. 269 - An act relating to excluding Supplemental Security Incom
 e payments from household income\n\nIntroduction and walk-through\n\nSen
 . Thomas Chittenden\, Sponsor\n\nJon Gray\, Legislative Counsel\, Office
  of Legislative Counsel - Room 6
TZID:America/New_York
UID:20260125T060813Z-uidGen@richgoldman-357e73
END:VEVENT
BEGIN:VALARM
TRIGGER:-PT15M
ACTION:DISPLAY
DESCRIPTION:S. 269 - An act relating to excluding Supplemental Security I
 ncome payments from household income\n\nIntroduction and walk-through\n\
 nSen. Thomas Chittenden\, Sponsor\n\nJon Gray\, Legislative Counsel\, Of
 fice of Legislative Counsel - Room 6
END:VALARM
END:VCALENDAR
