BEGIN:VCALENDAR
CALSCALE:GREGORIAN
PRODID:-//Ben Fortuna//iCal4j 1.0//EN
VERSION:2.0
BEGIN:VEVENT
DTSTAMP:20260125T060512Z
DTSTART:20260127T134500
DTEND:20260127T154500
SUMMARY:Vermont Veterans' Home\n\nUpdate\n\nMelissa Jackson\, Chief Execu
 tive Officer\, Vermont Veterans' Home - Zoom\n\nSteve McClafferty\, Fina
 nce Director\, Vermont Veterans' Home - Zoom - Room M106
TZID:America/New_York
UID:20260125T060757Z-uidGen@richgoldman-357e73
END:VEVENT
BEGIN:VALARM
TRIGGER:-PT15M
ACTION:DISPLAY
DESCRIPTION:Vermont Veterans' Home\n\nUpdate\n\nMelissa Jackson\, Chief E
 xecutive Officer\, Vermont Veterans' Home - Zoom\n\nSteve McClafferty\, 
 Finance Director\, Vermont Veterans' Home - Zoom - Room M106
END:VALARM
END:VCALENDAR
