BEGIN:VCALENDAR
CALSCALE:GREGORIAN
PRODID:-//Ben Fortuna//iCal4j 1.0//EN
VERSION:2.0
BEGIN:VEVENT
DTSTAMP:20260126T230013Z
DTSTART:20260127T133000
DTEND:20260127T153000
SUMMARY:TBD - Room 5
TZID:America/New_York
UID:20260126T230015Z-uidGen@richgoldman-357e73
END:VEVENT
BEGIN:VALARM
TRIGGER:-PT15M
ACTION:DISPLAY
DESCRIPTION:TBD - Room 5
END:VALARM
END:VCALENDAR
