BEGIN:VCALENDAR
CALSCALE:GREGORIAN
PRODID:-//Ben Fortuna//iCal4j 1.0//EN
VERSION:2.0
BEGIN:VEVENT
DTSTAMP:20260125T060512Z
DTSTART:20260127T133000
DTEND:20260127T153000
SUMMARY:S. 251 - An act relating to health insurance coverage for diagnos
 is and treatment of certain pediatric neuropsychiatric conditions\n\nInt
 roduction and walk-through\n\nSen. Thomas Chittenden\, Sponsor\n\nJennif
 er Carbee\, Deputy Chief Counsel\, Office of Legislative Counsel - Room 
 6
TZID:America/New_York
UID:20260125T060753Z-uidGen@richgoldman-357e73
END:VEVENT
BEGIN:VALARM
TRIGGER:-PT15M
ACTION:DISPLAY
DESCRIPTION:S. 251 - An act relating to health insurance coverage for dia
 gnosis and treatment of certain pediatric neuropsychiatric conditions\n\
 nIntroduction and walk-through\n\nSen. Thomas Chittenden\, Sponsor\n\nJe
 nnifer Carbee\, Deputy Chief Counsel\, Office of Legislative Counsel - R
 oom 6
END:VALARM
END:VCALENDAR
