BEGIN:VCALENDAR
CALSCALE:GREGORIAN
PRODID:-//Ben Fortuna//iCal4j 1.0//EN
VERSION:2.0
BEGIN:VEVENT
DTSTAMP:20260125T060512Z
DTSTART:20260127T131500
DTEND:20260127T151500
SUMMARY:H. 473 - An act relating to the reintroduction of catamounts to t
 he State of Vermont\n\nPeter Brewitt\, PHD\, Director\, Sustainability\,
  Ecology & Policy Program\, University of Vermont - Room EA
TZID:America/New_York
UID:20260125T060746Z-uidGen@richgoldman-357e73
END:VEVENT
BEGIN:VALARM
TRIGGER:-PT15M
ACTION:DISPLAY
DESCRIPTION:H. 473 - An act relating to the reintroduction of catamounts 
 to the State of Vermont\n\nPeter Brewitt\, PHD\, Director\, Sustainabili
 ty\, Ecology & Policy Program\, University of Vermont - Room EA
END:VALARM
END:VCALENDAR
